BEGIN:VCALENDAR
VERSION:2.0
PRODID:-//Gemeinde Barendorf - ECPv6.15.20//NONSGML v1.0//EN
CALSCALE:GREGORIAN
METHOD:PUBLISH
X-WR-CALNAME:Gemeinde Barendorf
X-ORIGINAL-URL:https://barendorf.info
X-WR-CALDESC:Veranstaltungen für Gemeinde Barendorf
REFRESH-INTERVAL;VALUE=DURATION:PT1H
X-Robots-Tag:noindex
X-PUBLISHED-TTL:PT1H
BEGIN:VTIMEZONE
TZID:Europe/Berlin
BEGIN:DAYLIGHT
TZOFFSETFROM:+0100
TZOFFSETTO:+0200
TZNAME:CEST
DTSTART:20240331T010000
END:DAYLIGHT
BEGIN:STANDARD
TZOFFSETFROM:+0200
TZOFFSETTO:+0100
TZNAME:CET
DTSTART:20241027T010000
END:STANDARD
BEGIN:DAYLIGHT
TZOFFSETFROM:+0100
TZOFFSETTO:+0200
TZNAME:CEST
DTSTART:20250330T010000
END:DAYLIGHT
BEGIN:STANDARD
TZOFFSETFROM:+0200
TZOFFSETTO:+0100
TZNAME:CET
DTSTART:20251026T010000
END:STANDARD
BEGIN:DAYLIGHT
TZOFFSETFROM:+0100
TZOFFSETTO:+0200
TZNAME:CEST
DTSTART:20260329T010000
END:DAYLIGHT
BEGIN:STANDARD
TZOFFSETFROM:+0200
TZOFFSETTO:+0100
TZNAME:CET
DTSTART:20261025T010000
END:STANDARD
END:VTIMEZONE
BEGIN:VEVENT
DTSTART;TZID=Europe/Berlin:20251108T190000
DTEND;TZID=Europe/Berlin:20251108T220000
DTSTAMP:20260420T132020
CREATED:20241207T043825Z
LAST-MODIFIED:20250115T112631Z
UID:1037-1762628400-1762639200@barendorf.info
SUMMARY:Erwachsenenspielen - BaJuKi
DESCRIPTION:Es können gerne die Lieblingsspiele mitgebracht werden!   Ort: Sport- und Dorfgemeinschaftshaus\, Jugendraum\n\n\n\n\n\n\n\n\n\n\n\n\n\n\n 
URL:https://barendorf.info/veranstaltung/erwachsenenspielen-bajuki-14/
CATEGORIES:Allgemein,Jugendraum
END:VEVENT
BEGIN:VEVENT
DTSTART;TZID=Europe/Berlin:20251110T190000
DTEND;TZID=Europe/Berlin:20251110T210000
DTSTAMP:20260420T132020
CREATED:20251014T164812Z
LAST-MODIFIED:20251014T164812Z
UID:1470-1762801200-1762808400@barendorf.info
SUMMARY:Sitzung des CDU Ortsverband Barendorf
DESCRIPTION:
URL:https://barendorf.info/veranstaltung/sitzung-des-cdu-ortsverband-barendorf/
CATEGORIES:Allgemein,Sitzungsraum
END:VEVENT
BEGIN:VEVENT
DTSTART;TZID=Europe/Berlin:20251114T170000
DTEND;TZID=Europe/Berlin:20251114T230000
DTSTAMP:20260420T132020
CREATED:20250914T090332Z
LAST-MODIFIED:20250914T090332Z
UID:1426-1763139600-1763161200@barendorf.info
SUMMARY:Männerkochen
DESCRIPTION:Ort: Sport- und Dorfgemeinschaftshaus\, Schulstraße 6\, 21397 Barendorf
URL:https://barendorf.info/veranstaltung/maennerkochen-12/
CATEGORIES:Allgemein,Jugendraum
END:VEVENT
BEGIN:VEVENT
DTSTART;TZID=Europe/Berlin:20251116T100000
DTEND;TZID=Europe/Berlin:20251116T100000
DTSTAMP:20260420T132020
CREATED:20251021T105845Z
LAST-MODIFIED:20251021T105845Z
UID:1474-1763287200-1763287200@barendorf.info
SUMMARY:GEDENKFEIER anlässlich des Volkstrauertages
DESCRIPTION:GEDENKFEIER\nanlässlich des Volkstrauertages \nDie Gemeinde Barendorf lädt am Volkstrauertag\, \nSonntag\, 16. November 2025\, um 10.00 Uhr\n zur Gedenkfeier ein. \nDie Gedenkstunde findet am Ehrenmal vor der Matthäus Kirche zu Barendorf statt. \nGedacht wird insbesondere den Toten von Krieg und Gewalt\, den Opfern von Diktatur\, Flucht\, Vertreibung und Terror. \n  \nDie Bevölkerung ist herzlich eingeladen\, an der Gedenkfeier teilzunehmen.
URL:https://barendorf.info/veranstaltung/gedenkfeier-anlaesslich-des-volkstrauertages/
CATEGORIES:Allgemein
END:VEVENT
BEGIN:VEVENT
DTSTART;TZID=Europe/Berlin:20251118T190000
DTEND;TZID=Europe/Berlin:20251118T220000
DTSTAMP:20260420T132020
CREATED:20250525T105028Z
LAST-MODIFIED:20250525T105028Z
UID:1328-1763492400-1763503200@barendorf.info
SUMMARY:Barendorfer Stricktreff
DESCRIPTION:Ansprechperson: \nRegina Wollschläger\, Auf dem Kiewitt 16A\, 21397 Barendorf
URL:https://barendorf.info/veranstaltung/barendorfer-stricktreff-6/
CATEGORIES:Allgemein,Jugendraum
END:VEVENT
BEGIN:VEVENT
DTSTART;TZID=Europe/Berlin:20251124T180000
DTEND;TZID=Europe/Berlin:20251124T190000
DTSTAMP:20260420T132020
CREATED:20251021T105611Z
LAST-MODIFIED:20251021T105611Z
UID:1472-1764007200-1764010800@barendorf.info
SUMMARY:Bürgermeister-Sprechstunde
DESCRIPTION:Persönliches Gespräch mit dem Bürgermeister \nBürgermeister Jens Könke ist es ein persönliches Anliegen\, für die Barendorfer stets ein offenes Ohr zu haben. Leider lässt es sich nicht immer terminlich vereinbaren\, zu jeder Zeit zu einem persönlichen Gespräch zu Verfügung zu stehen. Alle interessierten Einwohner der Gemeinde Barendorf haben deshalb die Gelegenheit\, ihr Anliegen dem Bürgermeister vorzutragen. \nDie Sprechstunde findet statt am \nMontag\, 24. November 2025  von 18:00 – 19:00 Uhr \nim Sitzungsraum des Sport- und Dorfgemeinschaftshauses \nSchulstraße 6\, 21397 Barendorf.
URL:https://barendorf.info/veranstaltung/buergermeister-sprechstunde-9/
CATEGORIES:Allgemein,Sitzungsraum
END:VEVENT
BEGIN:VEVENT
DTSTART;TZID=Europe/Berlin:20251124T183000
DTEND;TZID=Europe/Berlin:20251124T220000
DTSTAMP:20260420T132020
CREATED:20250914T090637Z
LAST-MODIFIED:20251005T080843Z
UID:1430-1764009000-1764021600@barendorf.info
SUMMARY:Origamifalten - BaJuKi
DESCRIPTION:Der BaJuKi möchte mit Ihnen weihnachtliche Origami falten.\n\nOrt: Sport- und Dorfgemeinschaftshaus\, Jugendraum\n\n\n\n\n\n\n\n\n\n\n\n\n\n\n 
URL:https://barendorf.info/veranstaltung/origamifalten-bajuki/
CATEGORIES:Allgemein,Jugendraum
END:VEVENT
END:VCALENDAR